BEGIN:VCALENDAR
VERSION:2.0
PRODID:-//Mitchell County Conservation Board - ECPv6.15.16.1//NONSGML v1.0//EN
CALSCALE:GREGORIAN
METHOD:PUBLISH
X-ORIGINAL-URL:https://mitchellcountyconservation.com
X-WR-CALDESC:Events for Mitchell County Conservation Board
REFRESH-INTERVAL;VALUE=DURATION:PT1H
X-Robots-Tag:noindex
X-PUBLISHED-TTL:PT1H
BEGIN:VTIMEZONE
TZID:America/Chicago
BEGIN:DAYLIGHT
TZOFFSETFROM:-0600
TZOFFSETTO:-0500
TZNAME:CDT
DTSTART:20230312T080000
END:DAYLIGHT
BEGIN:STANDARD
TZOFFSETFROM:-0500
TZOFFSETTO:-0600
TZNAME:CST
DTSTART:20231105T070000
END:STANDARD
BEGIN:DAYLIGHT
TZOFFSETFROM:-0600
TZOFFSETTO:-0500
TZNAME:CDT
DTSTART:20240310T080000
END:DAYLIGHT
BEGIN:STANDARD
TZOFFSETFROM:-0500
TZOFFSETTO:-0600
TZNAME:CST
DTSTART:20241103T070000
END:STANDARD
BEGIN:DAYLIGHT
TZOFFSETFROM:-0600
TZOFFSETTO:-0500
TZNAME:CDT
DTSTART:20250309T080000
END:DAYLIGHT
BEGIN:STANDARD
TZOFFSETFROM:-0500
TZOFFSETTO:-0600
TZNAME:CST
DTSTART:20251102T070000
END:STANDARD
END:VTIMEZONE
BEGIN:VEVENT
DTSTART;TZID=America/Chicago:20240605T113000
DTEND;TZID=America/Chicago:20240605T130000
DTSTAMP:20260423T205040
CREATED:20240604T134240Z
LAST-MODIFIED:20240604T134240Z
UID:13946-1717587000-1717592400@mitchellcountyconservation.com
SUMMARY:Picnics in the Park (Pioneer Park)
DESCRIPTION:Families with children going into Kindergarten and younger are invited to enjoy nature through Picnics in the Park! Picnickers are asked to bring a picnic lunch\, blanket or tablecloth\, and have an adult present throughout the program. Please meet us at the specified park where we will eat lunch first\, then have a short program and activities based on a nature-themed book.  Older children are welcome to attend\, but the content and activities is geared for younger learners.\n \nJune 5th – “Lovely Ladybugs” @ Pioneer Park – 3987 Shadow Ave.\, Osage\nJune 12th – “Sunflowers” @ Interstate Park – Mitchell\nJune 19th – “Sweet Summer Berries” @ Milton R. Owen Nature Center – Osage\nJune 26th – “Frogs & Tadpoles” @ Riverside Park – Stacyville \nThis program is FREE and there is no registration required. Just show up with your picnic lunch & your littles\, and be ready to have fun learning about nature! This program will be postponed or rescheduled if there is severe weather. Please call Chelsea’s cell at (641) 330-0765\, or visit our Facebook page for any event or weather related questions or updates.
URL:https://mitchellcountyconservation.com/event/picnics-in-the-park-pioneer-park/
LOCATION:Pioneer Park\, 3987 Shadow Ave\, Osage\, IA\, 50461\, United States
ATTACH;FMTTYPE=image/jpeg:https://mitchellcountyconservation.com/wp-content/uploads/2024/06/2024-Picnics-in-the-Park-Website.jpg
END:VEVENT
BEGIN:VEVENT
DTSTART;TZID=America/Chicago:20240518T090000
DTEND;TZID=America/Chicago:20240518T130000
DTSTAMP:20260423T205040
CREATED:20240416T214051Z
LAST-MODIFIED:20240416T214051Z
UID:13912-1716022800-1716037200@mitchellcountyconservation.com
SUMMARY:Spring Wild Edibles
DESCRIPTION:Join Naturalist Chelsea Ewen Rowcliffe to discover the flavors of the forest! There is an entire grocery store of delicious\, local\, wild foods just waiting outside your backdoor! This HANDS ON class focuses on how to identify key features of seasonal wild edible plants\, knowing when and what to ethically and sustainably harvest\, and how to prepare wild foods. Flowers\, greens\, roots\, and shoots are just a few of the things that will be on the menu! Come ready to help dig\, cut\, cook\, and most importantly EAT! The class will begin with a lesson identification\, rules\, and tools\, and then transition to a leisurely collection hike. In the field\, we will identify local edible plants\, collect appropriate parts\, and return to the nature center. Then it’s time to prepare\, cook and sample the flavors of spring! Please wear weather appropriate clothing and footwear. \nBring a water bottle\, notebook and/or camera for taking notes\, a writing utensil and your curiosity! Chelsea will have recipes\, notes\, and ID sheets to share. \n\nPlease CALL TO REGISTER – $10 for MCEEF Members/$20 for non-members \n\n(641) 330-0765 or (641) 732-5204
URL:https://mitchellcountyconservation.com/event/spring-wild-edibles/
LOCATION:Milton R. Owen Nature Center\, 1879 Highway 9\, Osage\, IA\, 50461\, United States
ATTACH;FMTTYPE=image/jpeg:https://mitchellcountyconservation.com/wp-content/uploads/2024/04/Website-May-2024-Wild-Edibles.jpg
END:VEVENT
BEGIN:VEVENT
DTSTART;TZID=America/Chicago:20240514T190000
DTEND;TZID=America/Chicago:20240514T190000
DTSTAMP:20260423T205040
CREATED:20240404T125527Z
LAST-MODIFIED:20240404T125519Z
UID:13906-1715713200-1715713200@mitchellcountyconservation.com
SUMMARY:Mitchell County Conservation Board Monthly Board Meeting
DESCRIPTION:Monthly meeting of the Mitchell County Conservation Board.
URL:https://mitchellcountyconservation.com/event/mitchell-county-conservation-board-monthly-board-meeting-5/
LOCATION:Milton R. Owen Nature Center\, 1879 Highway 9\, Osage\, IA\, 50461\, United States
ATTACH;FMTTYPE=image/jpeg:https://mitchellcountyconservation.com/wp-content/uploads/2024/01/Mitchell-County-Conservation-Board-events.jpg
END:VEVENT
BEGIN:VEVENT
DTSTART;TZID=America/Chicago:20240422T193000
DTEND;TZID=America/Chicago:20240422T210000
DTSTAMP:20260423T205040
CREATED:20240416T214849Z
LAST-MODIFIED:20240416T214849Z
UID:13914-1713814200-1713819600@mitchellcountyconservation.com
SUMMARY:Full Moon and Wildflower Walk
DESCRIPTION:Full Moon & Wildflower Walk \nApril 22nd \n7:30 PM \nHamlin Garland Wildlife Area – St. Ansgar \n\nLet’s celebrate EARTH DAY with a leisurely walk through the woods to admire spring wildflowers! Our walk will begin at 7:30 at the Hamlin Garland Wildlife Area\, just north of St. Ansgar on Hwy 218. MCCB Naturalist Chelsea Ewen Rowcliffe will guide you through the evening woods\, looking for ephemeral wildflowers\, waking spring trees\, and returning migrating wildlife. We’ll welcome the Full Pink Moon as we finish our walk. Chelsea will provide ID guides and full moon activities. Please wear weather appropriate clothing and shoes/boots. A water bottle is also recommended. This class is program is free and appropriate for all ages. This program will be cancelled if there is rain or storms. Please watch our Facebook page and/or call Chelsea at (641) 330-0765 for weather related updates.
URL:https://mitchellcountyconservation.com/event/full-moon-and-wildflower-walk/
LOCATION:Hamlin Garland Wildlife Area\, 4417 Hwy 218\, St. Ansgar\, IA\, 50472\, United States
ATTACH;FMTTYPE=image/jpeg:https://mitchellcountyconservation.com/wp-content/uploads/2024/04/Website-Moon-Flower-Walk-2024.jpg
END:VEVENT
BEGIN:VEVENT
DTSTART;TZID=America/Chicago:20240410T183000
DTEND;TZID=America/Chicago:20240410T213000
DTSTAMP:20260423T205040
CREATED:20240227T171152Z
LAST-MODIFIED:20240227T171152Z
UID:13892-1712773800-1712784600@mitchellcountyconservation.com
SUMMARY:Frog and Toad Call Survey Training
DESCRIPTION:Calling all wildlife watchers! The Mitchell County Conservation is partnering with the Iowa DNR Wildlife Diversity program to host a Frog and Toad Call Survey Training workshop at the Milton R. Owen Nature Center. These workshops are for anybody interested in getting involved in Iowa’s Frog and Toad Call Survey\, which has been collecting data on our state’s amphibians for over 30 years!\nNaturalist Chelsea Ewen Rowcliffe has been involved with collecting data for the Frog & Toad Call Survey for over 12 years!\nTo get involved with the frog and toad call survey you will need an adventurous spirit and the interest to learn up to 16 frog and toad breeding calls. You can check out a few of those calls in the Iowa DNR wildlife sound library!\nInterested volunteers should first visit https://www.iowadnr.gov/vwmp and read through the survey requirements to see if it is something you’d have the time for and an interest in. You can then see whether there are any survey routes nearby that need a monitor by browsing the maps of available routes. If you don’t see an available route near you\, creating your own survey route is also an option!\nThe time commitment for conducting the survey and submitting data is roughly 10 hours total between April and July each year and will require being out after dark for roughly 2 hours during each survey period. Workshops are most appropriate for adults or older children (12+).\nEach workshop has limited seats available and a $10.00 fee is required. Registration will close a week prior to the workshop or whenever the workshops have been filled. Direct questions to Stephanie Shepherd at vwmp@dnr.iowa.gov.\nA huge THANK YOU to Mitchell County Conservation for hosting the workshop.\nTo learn more about the survey visit the DNR Volunteer Wildlife Monitoring Program webpage.
URL:https://mitchellcountyconservation.com/event/frog-and-toad-call-survey-training/
LOCATION:Milton R. Owen Nature Center\, 1879 Highway 9\, Osage\, IA\, 50461\, United States
ATTACH;FMTTYPE=image/jpeg:https://mitchellcountyconservation.com/wp-content/uploads/2024/02/Green-Blue-The-Life-Cycle-of-a-Frog-Science-Presentation-940-x-788-px.jpg
END:VEVENT
BEGIN:VEVENT
DTSTART;TZID=America/Chicago:20240409T190000
DTEND;TZID=America/Chicago:20240409T190000
DTSTAMP:20260423T205040
CREATED:20240106T140658Z
LAST-MODIFIED:20240106T141741Z
UID:13636-1712689200-1712689200@mitchellcountyconservation.com
SUMMARY:Mitchell County Conservation Board Monthly Board Meeting
DESCRIPTION:Monthly meeting of the Mitchell County Conservation Board.
URL:https://mitchellcountyconservation.com/event/mitchell-county-conservation-board-monthly-board-meeting-4/
LOCATION:Milton R. Owen Nature Center\, 1879 Highway 9\, Osage\, IA\, 50461\, United States
ATTACH;FMTTYPE=image/jpeg:https://mitchellcountyconservation.com/wp-content/uploads/2024/01/Mitchell-County-Conservation-Board-events.jpg
END:VEVENT
BEGIN:VEVENT
DTSTART;TZID=America/Chicago:20240316T090000
DTEND;TZID=America/Chicago:20240316T160000
DTSTAMP:20260423T205040
CREATED:20240227T153136Z
LAST-MODIFIED:20240227T163342Z
UID:13887-1710579600-1710604800@mitchellcountyconservation.com
SUMMARY:Deer and Turkey Outdoor Show
DESCRIPTION:Join us for the Deer and Turkey Outdoor Show at the Milton R. Owen Nature Center in Osage\, Iowa\, on March 16th\, 2024\, from 9:00 am to 4:00 pm! Get ready for a day filled with exciting activities and valuable information about the great outdoors. \nYouth Shed Hunt: Let your little ones participate in a fun shed hunting activity and learn about the tracks and signs left behind by deer. Find deer antler sheds and receive a prize 10 am and 1pm \nArchery Shoot (Bows Provided): Test your archery skills and aim for the bullseye. Bows will be provided\, so bring your enthusiasm and compete with fellow outdoor enthusiasts. Prizes awarded. 3 different classes age 18 and up 13-17 and 0-12 runs from 9-3pm $5 for 3 arrows shoot as many times as you would like. \nAntler Toss Game: Show off your strength and accuracy by participating in our antler toss game. Prizes await those who can hit the mark! \nWild Game Displays: Share your trophy animal mounts and let others admire your achievements. We’ll have a display area to showcase these incredible additions to your collection. All taxidermy mounts welcome\, deer mounts official scored\, anyone who brings and mount or display gets 3 free raffle tickets. \n Falconer Demonstrations: Witness the breathtaking agility of falcons in our thrilling demonstrations by expert falconers. Time 11am and 2pm.  Falcon will also be on display durning rest of show. Come watch the live demo. \n Food Truck: Take a break and recharge with delicious food from our selection of food truck\, serving up mouthwatering treats all day long.  Severing breakfast and lunch. Who doesn’t love a good food truck. Time 9-4pm \n Wildlife Biologists: Engage with wildlife biologists and gain insights into wildlife behavior\, conservation efforts\, and tips for a successful hunting season. 9-4pm \n Outdoor Retailers Vendors: Browse through a variety of vendors offering outdoor gear\, equipment\, and accessories. Discover the latest products from trusted brands in the industry. Time 9-4pm \nTrail Camera Photo Gallery: Be captivated by the stunning wildlife captured on trail cameras. Watch in amazement as nature’s beauty unfolds before your eyes. See the animals people get on their trail camera pictures. \n Raffles for Hunting and Outdoor Gear: Don’t miss your chance to win fantastic prizes in our raffle draws. Take home some top-notch hunting and outdoor gear to elevate your adventures. \nAnd that’s not all – we have even more exciting surprises in store for you at the Deer and Turkey Outdoor Show! \nSave the date and bring your friends and family for a day packed with outdoor fun\, education\, and camaraderie. Mark your calendars and get ready to immerse yourself in the world of hunting\, wildlife\, and outdoor exploration. \nLocation: Milton R. Owen Nature Center 1879-3 Hwy #9 Osage\, Iowa 50461 \nShow runs from 9-4pm \nArchery Shoot 9-3pm \nKids Antler Hunt 10am 1pm \nFalconry Demonstrations 11am and 2pm \nAntler ring toss 9-4pm \nFood Truck 9-4pm \nTrail Camera Gallery 9-4pm Send us your photos ataetsmccb@osage.net \nOver 20 venders and more
URL:https://mitchellcountyconservation.com/event/deer-and-turkey-outdoor-show/
LOCATION:Milton R. Owen Nature Center\, 1879 Highway 9\, Osage\, IA\, 50461\, United States
ATTACH;FMTTYPE=image/png:https://mitchellcountyconservation.com/wp-content/uploads/2024/02/Copy-of-Deer-and-Turkey-outdoor-show-website-event940-x-788-px-940-x-788-px-940-x-788-px-1.png
END:VEVENT
BEGIN:VEVENT
DTSTART;TZID=America/Chicago:20240313T173000
DTEND;TZID=America/Chicago:20240313T173000
DTSTAMP:20260423T205040
CREATED:20240106T141630Z
LAST-MODIFIED:20240106T141630Z
UID:13640-1710351000-1710351000@mitchellcountyconservation.com
SUMMARY:Maple Syruping!
DESCRIPTION:With the county seat of Osage being the “City of Maples”\, what better way to break the winter blues than learning about the liquid gold that flows for free each spring-MAPLE SYRUP! Join Naturalist Chelsea Ewen Rowcliffe on Wednesday\, March 13th at 5:30 PM at the Milton R. Owen Nature Center for a demonstration of how to harvest this sweet treat.  \nWe’ll cover how to identify maple trees\, the equipment needed\, “tapping” the trees\, and turning sap in to syrup!\nThis program is free and open to the public\, but please call our office  at (641) 732-5204 to sign up. We will be going on a leisurely walk around the Nature Center\, so please wear outdoor shoes and weather appropriate clothing. Of course\, this program wouldn’t be complete without a sampling of the sweet stuff\, too!
URL:https://mitchellcountyconservation.com/event/maple-syruping/
LOCATION:Milton R. Owen Nature Center\, 1879 Highway 9\, Osage\, IA\, 50461\, United States
ATTACH;FMTTYPE=image/jpeg:https://mitchellcountyconservation.com/wp-content/uploads/2024/01/maple-syruping.jpg
END:VEVENT
BEGIN:VEVENT
DTSTART;TZID=America/Chicago:20240312T190000
DTEND;TZID=America/Chicago:20240312T190000
DTSTAMP:20260423T205040
CREATED:20240106T140525Z
LAST-MODIFIED:20240106T141804Z
UID:13634-1710270000-1710270000@mitchellcountyconservation.com
SUMMARY:Mitchell County Conservation Board Monthly Board Meeting
DESCRIPTION:Monthly meeting of the Mitchell County Conservation Board.
URL:https://mitchellcountyconservation.com/event/mitchell-county-conservation-board-monthly-board-meeting-3/
LOCATION:Milton R. Owen Nature Center\, 1879 Highway 9\, Osage\, IA\, 50461\, United States
ATTACH;FMTTYPE=image/jpeg:https://mitchellcountyconservation.com/wp-content/uploads/2024/01/Mitchell-County-Conservation-Board-events.jpg
END:VEVENT
BEGIN:VEVENT
DTSTART;TZID=America/Chicago:20240213T190000
DTEND;TZID=America/Chicago:20240213T190000
DTSTAMP:20260423T205040
CREATED:20240106T140412Z
LAST-MODIFIED:20240106T141826Z
UID:13632-1707850800-1707850800@mitchellcountyconservation.com
SUMMARY:Mitchell County Conservation Board Monthly Board Meeting
DESCRIPTION:Monthly meeting of the Mitchell County Conservation Board.
URL:https://mitchellcountyconservation.com/event/mitchell-county-conservation-board-monthly-board-meeting-2/
LOCATION:Milton R. Owen Nature Center\, 1879 Highway 9\, Osage\, IA\, 50461\, United States
ATTACH;FMTTYPE=image/jpeg:https://mitchellcountyconservation.com/wp-content/uploads/2024/01/Mitchell-County-Conservation-Board-events.jpg
END:VEVENT
BEGIN:VEVENT
DTSTART;TZID=America/Chicago:20240210T170000
DTEND;TZID=America/Chicago:20240210T170000
DTSTAMP:20260423T205040
CREATED:20240106T143203Z
LAST-MODIFIED:20240106T143203Z
UID:13644-1707584400-1707584400@mitchellcountyconservation.com
SUMMARY:Sweetheart Ski/Stroll
DESCRIPTION:Take your sweetie for a fun ski/stroll down the luminary-lit Wapsi-Great western Line trail in Riceville! The trail head is located at 110 East Main Street in Riceville. Mitchell County Conservation will have cross-country skis available to try for free\, or bring your own ski/snowshoe gear. \n We will also have a bonfire for warming up\, with s’mores and hot cocoa. If there is no snow\, we invite you to take a stroll down the trail instead. \nContact Chelsea at (641) 330-0765 and watch our Facebook page for more information and weather-related updates.\nHope to see you and your sweetie on the trail!
URL:https://mitchellcountyconservation.com/event/sweetheart-ski-stroll/
LOCATION:Wapsi-Great Western Line Trail Welcome Center\, 110 East Main Street\, Riceville\, Riceville\, United States
ATTACH;FMTTYPE=image/jpeg:https://mitchellcountyconservation.com/wp-content/uploads/2024/01/Sweetheart-Ski-2024-940-x-788-px.jpg
END:VEVENT
BEGIN:VEVENT
DTSTART;TZID=America/Chicago:20240203T130000
DTEND;TZID=America/Chicago:20240203T130000
DTSTAMP:20260423T205040
CREATED:20240106T135747Z
LAST-MODIFIED:20240106T141851Z
UID:13628-1706965200-1706965200@mitchellcountyconservation.com
SUMMARY:Winter Bird Walk
DESCRIPTION:Winter is an excellent time for bird watching! Bare trees give excellent glimpses of our feathered friends and their songs warm the chill air. Enjoy a leisurely walk around the nature center viewing birds to finish out our 3-part series of “Building Better Birders”! Birding expert Kelly McKay and MCCB Naturalist Chelsea Rowcliffe will guide you through the winter woods listening\, watching\, and identifying birds along the way. Dress for the weather and wear comfortable winter boots. Binoculars\, bird ID guides\, and hot beverages will be provided. Please call our office at (641) 732-5204 to register. \nBuilding Better Birders is a programming series designed to improve the bird identification skills of local citizens & promote a greater interest in citizen science programming. This workshop will be conducted by Kelly McKay (BioEco Research and Monitoring Center) in conjunction with Mitchell County Conservation. Kelly McKay is a recognized leader in the birding field throughout the Midwest. His 40 years of experience in the field as an avian researcher and educator makes these workshops special! Workshops are presented free of charge & supported by the Resource Enhancement and Protection – Conservation Education Program (REAP-CEP). These programs are open to all ages but are geared toward participants age 12 & over.
URL:https://mitchellcountyconservation.com/event/winter-bird-walk/
LOCATION:Milton R. Owen Nature Center\, 1879 Highway 9\, Osage\, IA\, 50461\, United States
ATTACH;FMTTYPE=image/jpeg:https://mitchellcountyconservation.com/wp-content/uploads/2024/01/birdwalk.jpg
END:VEVENT
BEGIN:VEVENT
DTSTART;TZID=America/Chicago:20240203T100000
DTEND;TZID=America/Chicago:20240203T120000
DTSTAMP:20260423T205040
CREATED:20240106T134926Z
LAST-MODIFIED:20240106T141932Z
UID:13625-1706954400-1706961600@mitchellcountyconservation.com
SUMMARY:Build-Your-Own Birdfeeder
DESCRIPTION:Winter blues got you down? How about adding some “wild color” into your life by feeding wintertime birds! Join Mitchell County Conservation Naturalist\, Chelsea Ewen Rowcliffe for a fun morning learning about winter birding. This free program will be offered Saturday\, February 3rd from 10 AM -Noon at the Milton R. Owen Nature Center. This program is part of the “Building Better Birders” workshop and a continuation of a morning presentation on Common Feeder Birds. Participants will learn about winter bird feeding\, what species are visiting feeders\, and how to attract the most birds to your backyard. We will also be making bird feeders to take home. Please call the nature center at (641) 732-5204 to sign up to ensure we have enough supplies. Let’s make this winter truly “for the birds”!
URL:https://mitchellcountyconservation.com/event/build-your-own-birdfeeder/
LOCATION:Milton R. Owen Nature Center\, 1879 Highway 9\, Osage\, IA\, 50461\, United States
ATTACH;FMTTYPE=image/jpeg:https://mitchellcountyconservation.com/wp-content/uploads/2024/01/birdfeederbuild.jpg
END:VEVENT
BEGIN:VEVENT
DTSTART;TZID=America/Chicago:20240203T083000
DTEND;TZID=America/Chicago:20240203T083000
DTSTAMP:20260423T205040
CREATED:20240106T141145Z
LAST-MODIFIED:20240106T142137Z
UID:13638-1706949000-1706949000@mitchellcountyconservation.com
SUMMARY:Building Better Birders – “Common Feeder Birds of Iowa” Presentation
DESCRIPTION:Are you a beginning birder\, expert in avians\, or somewhere in between? Then this is the program for you! We offer a variety of high-quality workshops designed to prepare you for the next step in your birding education. Building Better Birders is a programming series designed to improve the bird identification skills of local citizens & promote a greater interest in citizen science programming. This workshop will be conducted by Kelly McKay (BioEco Research and Monitoring Center) in conjunction with Mitchell County Conservation. Kelly McKay is a recognized leader in the birding field throughout the Midwest. His 40 years of experience in the field as an avian researcher and educator makes these workshops special! \nWorkshops are presented free of charge & supported by the Resource Enhancement and Protection – Conservation Education Program (REAP-CEP). These programs are open to all ages but are geared toward participants age 12 & over. \nThis programming series will feature 3 events in Mitchell County. PLEASE CALL our office at (641) 732-5204 TO PRE-REGISTER to ensure supplies for all attendees. Attendees may register for all programs or may select the ones that most interest you.\nThis class will be a presentation on the Common Feeder Birds of Iowa\, including identification skills\, calls\, and bird behavior to help you better identify the feathered friends visiting your feeder.\n8:30 – Common Feeder Birds of Iowa Presentation\n10:00 – Bird Feeder Build\n1:00 – Winter Bird Walk\nWhere Passion for Birds Meets Education – Building a Community of Lifelong Learners and Citizen Scientists! \n 
URL:https://mitchellcountyconservation.com/event/building-better-birders-common-feeder-birds-of-iowa-presentation/
LOCATION:Milton R. Owen Nature Center\, 1879 Highway 9\, Osage\, IA\, 50461\, United States
ATTACH;FMTTYPE=image/jpeg:https://mitchellcountyconservation.com/wp-content/uploads/2024/01/Presentation-ΓCCommon-Feeder-Birds-of-IowaΓC¥-940-x-788-px.jpg
END:VEVENT
BEGIN:VEVENT
DTSTART;TZID=America/Chicago:20240127T173000
DTEND;TZID=America/Chicago:20240127T173000
DTSTAMP:20260423T205040
CREATED:20240106T142553Z
LAST-MODIFIED:20240106T142553Z
UID:13642-1706376600-1706376600@mitchellcountyconservation.com
SUMMARY:Natural Soapmaking
DESCRIPTION:Start 2024 off clean and green with this fun\, hands-on class! Naturalist Chelsea Ewen Rowcliffe will help you discover the history\, chemistry\, process\, and benefits of making your own homemade soap.  \nThe best part of this class is customizing and taking home your own unique soap! Whether you are using it as gifts\, or for personal use\, you’re sure to be hooked on your first batch! We will also have materials on hand to make some other natural care products\, like lip balm\, lotion\, and sugar body scrub. \n There is a $15 supplies fee\, or $10 if you are an Environmental Education Foundation member.  \nCall Chelsea at (641) 732-5204 to register. Space is limited\, so sign up today!
URL:https://mitchellcountyconservation.com/event/natural-soapmaking/
LOCATION:Milton R. Owen Nature Center\, 1879 Highway 9\, Osage\, IA\, 50461\, United States
ATTACH;FMTTYPE=image/jpeg:https://mitchellcountyconservation.com/wp-content/uploads/2024/01/Soap-Instagram-Post-940-x-788-px.jpg
END:VEVENT
BEGIN:VEVENT
DTSTART;TZID=America/Chicago:20240109T190000
DTEND;TZID=America/Chicago:20240109T190000
DTSTAMP:20260423T205040
CREATED:20240106T140232Z
LAST-MODIFIED:20240106T142018Z
UID:13630-1704826800-1704826800@mitchellcountyconservation.com
SUMMARY:Mitchell County Conservation Board Monthly Board Meeting
DESCRIPTION:Monthly meeting of the Mitchell County Conservation Board.
URL:https://mitchellcountyconservation.com/event/mitchell-county-conservation-board-monthly-board-meeting/
LOCATION:Milton R. Owen Nature Center\, 1879 Highway 9\, Osage\, IA\, 50461\, United States
ATTACH;FMTTYPE=image/jpeg:https://mitchellcountyconservation.com/wp-content/uploads/2024/01/Mitchell-County-Conservation-Board-events.jpg
END:VEVENT
END:VCALENDAR